BEGIN:VCALENDAR
VERSION:2.0
PRODID:-//Earth 2 Mars - ECPv5.3.2.1//NONSGML v1.0//EN
CALSCALE:GREGORIAN
METHOD:PUBLISH
X-WR-CALNAME:Earth 2 Mars
X-ORIGINAL-URL:https://earth2mars.com.au
X-WR-CALDESC:Events for Earth 2 Mars
BEGIN:VTIMEZONE
TZID:Australia/Sydney
BEGIN:STANDARD
TZOFFSETFROM:+1100
TZOFFSETTO:+1000
TZNAME:AEST
DTSTART:20210403T160000
END:STANDARD
BEGIN:DAYLIGHT
TZOFFSETFROM:+1000
TZOFFSETTO:+1100
TZNAME:AEDT
DTSTART:20211002T160000
END:DAYLIGHT
END:VTIMEZONE
BEGIN:VEVENT
DTSTART;VALUE=DATE:20210720
DTEND;VALUE=DATE:20210730
DTSTAMP:20210224T131456
CREATED:20201103T071200Z
LAST-MODIFIED:20210218T014829Z
UID:7296-1626739200-1627603199@earth2mars.com.au
SUMMARY:Advanced Digital Change Course 🇦🇺
DESCRIPTION:A 2-week program delivered virtually\, this course is a building block from the Change Diagnostics Foundation Course. It teaches you the techniques and digital tools to implement and manage change remotely from anywhere in the universe or your own desk.\n  \nWho is this for?\nThis is course is exclusively tailored for those who have completed the Change Diagnostics Foundation Course. \n  \nKey learning outcomes\n\nRefresher on the Change Diagnostics Foundation course methodology and toolkit\nConfidence in using the latest digital technology to run human-centred design from anywhere in the universe\, isolation of space or your own home\nDigital Influence & Engagement\nCertification* of Advanced Digital Change Course\n\n4x sessions at 5:30pm – 7:30pm AET
URL:https://earth2mars.com.au/event/advanced-digital-change-course-%f0%9f%87%a6%f0%9f%87%ba/
LOCATION:Sydney\, Sydney\, Australia
CATEGORIES:Advanced Digital Change Course
ATTACH;FMTTYPE=image/jpeg:https://earth2mars.com.au/wp-content/uploads/2020/11/Digital-Change.jpg
END:VEVENT
BEGIN:VEVENT
DTSTART;VALUE=DATE:20210605
DTEND;VALUE=DATE:20210701
DTSTAMP:20210224T131456
CREATED:20201103T075020Z
LAST-MODIFIED:20210218T014127Z
UID:7320-1622851200-1625097599@earth2mars.com.au
SUMMARY:Change Diagnostic Foundation Course 🇦🇺
DESCRIPTION:This is a 6-week program delivered as a hybrid of both face-to-face and virtually guided. We teach you a change management methodology using human-centred design layered with the tools\, tips and human skills to engage your audience and facilitate any level of change.\n  \nWho is this for?\nProgram Managers\, Project Managers\, Business Analysts\, Professionals transitioning into change\, Independent Consultants and Contractors. As well as any professionals who are problem-solving\, engages people (stakeholders\, team or a board) or is involved in change across systems and technology\, roles and organisational charts\, process and policies\, regulations and culture. \n  \nKey learning outcomes:\n\nChange Diagnostic Approach which incorporates the best of consulting\, behavioural science\nand human-centred design\nFacilitation tips\, tools and skills for a more holistic\, engaging and inclusive change consulting\nCommunity of practice with 3 follow up group coaching sessions to support you as you\ndeliver your change\nA one on one coaching session to help you map your next steps in the change universe\nA toolkit of human-centred design approaches specific for change & transformation work.\nIn-depth knowledge & practical communications skills to help you deliver & facilitate change\nwith confidence\nCertification* of Change Diagnostics Foundation Course\n\nLearning day on 9am – 6pm AEST. Followed by 4x virtual sessions at 5:30pm – 7pm AEST
URL:https://earth2mars.com.au/event/change-diagnostic-foundation-course-%f0%9f%87%a6%f0%9f%87%ba-3/
LOCATION:Sydney\, Sydney\, Australia
CATEGORIES:Change Diagnostic Foundation Program
ATTACH;FMTTYPE=image/jpeg:https://earth2mars.com.au/wp-content/uploads/2020/11/Change-Diagnostic.jpg
END:VEVENT
BEGIN:VEVENT
DTSTART;VALUE=DATE:20210323
DTEND;VALUE=DATE:20210402
DTSTAMP:20210224T131456
CREATED:20201103T080150Z
LAST-MODIFIED:20210119T091513Z
UID:7327-1616457600-1617321599@earth2mars.com.au
SUMMARY:Advanced Digital Change Course 🇦🇺
DESCRIPTION:A 2-week program delivered virtually\, this course is a building block from the Change Diagnostics Foundation Course. It teaches you the techniques and digital tools to implement and manage change remotely from anywhere in the universe or your own desk.\n  \nWho is this for?\nThis is course is exclusively tailored for those who have completed the Change Diagnostics Foundation Course. \n  \nKey learning outcomes\n\nRefresher on the Change Diagnostics Foundation course methodology and toolkit\nConfidence in using the latest digital technology to run human-centred design from anywhere in the universe\, isolation of space or your own home\nDigital Influence & Engagement\nCertification* of Advanced Digital Change Course\n\n4x sessions at 5:30pm – 7:30pm AEDT
URL:https://earth2mars.com.au/event/advanced-digital-change-course-%f0%9f%87%a6%f0%9f%87%ba-2/
LOCATION:Sydney\, Sydney\, Australia
CATEGORIES:Advanced Digital Change Program
ATTACH;FMTTYPE=image/jpeg:https://earth2mars.com.au/wp-content/uploads/2020/11/Digital-Change.jpg
END:VEVENT
BEGIN:VEVENT
DTSTART;VALUE=DATE:20210320
DTEND;VALUE=DATE:20210415
DTSTAMP:20210224T131456
CREATED:20201103T072459Z
LAST-MODIFIED:20201125T095702Z
UID:7308-1616198400-1618444799@earth2mars.com.au
SUMMARY:Advanced Digital Accelerator Course 🇺🇸
DESCRIPTION:A virtually guided program over 6 weeks\, this course combines the Change Diagnostics Foundation Course and Advanced Digital Change Course. It focuses on the digital implementation and management of change using human-centred design.\n  \nWho is this for?\nWith a focus on digital\, this is tailored for professionals who are comfortable with face-to-face facilitation or experienced practitioners wanting to upgrade into the future of work. Program Managers\, Project Managers\, Business Analysts\, Professionals transitioning into change\, Independent Consultants and Contractors. As well as any professionals\nwho are problem-solving\, engages people (stakeholders\, team or a board) or is involved in change across systems and technology\, roles and organisational charts\, process and policies\, regulations and culture will find this beneficial. \n  \nKey learning outcomes\n\nYou will be equipped with the technology & change techniques to implement and\nmanage change in virtual & live formats\nAll learning benefits from our Change Diagnostics Foundation and Advanced Digital\nCourse\n2x Certifications* (Change Diagnostics Foundation Course + Advanced Digital\nChange Course)\n\nLearning days on 9am – 2pm ET on 14th and 15th. Followed by 4x virtual sessions at 5:30pm – 7pm ET
URL:https://earth2mars.com.au/event/advanced-digital-accelerator-course-%f0%9f%87%ba%f0%9f%87%b8/
LOCATION:New York\, New York\, United States
CATEGORIES:Advanced Digital Accelerator Program
ATTACH;FMTTYPE=image/jpeg:https://earth2mars.com.au/wp-content/uploads/2020/11/Digital-Accelerator.jpg
END:VEVENT
BEGIN:VEVENT
DTSTART;VALUE=DATE:20210313
DTEND;VALUE=DATE:20210415
DTSTAMP:20210224T131456
CREATED:20201103T071752Z
LAST-MODIFIED:20210127T102450Z
UID:7303-1615593600-1618444799@earth2mars.com.au
SUMMARY:Advanced Digital Accelerator Course 🇦🇺
DESCRIPTION:A virtually guided program over 6 weeks\, this course combines the Change Diagnostics Foundation Course and Advanced Digital Change Course. It focuses on the digital implementation and management of change using human-centred design.\n  \nWho is this for?\nWith a focus on digital\, this is tailored for professionals who are comfortable with face-to-face facilitation or experienced practitioners wanting to upgrade into the future of work. Program Managers\, Project Managers\, Business Analysts\, Professionals transitioning into change\, Independent Consultants and Contractors. As well as any professionals\nwho are problem-solving\, engages people (stakeholders\, team or a board) or is involved in change across systems and technology\, roles and organisational charts\, process and policies\, regulations and culture will find this beneficial. \n  \nKey learning outcomes\n\nYou will be equipped with the technology & change techniques to implement and\nmanage change in virtual & live formats\nAll learning benefits from our Change Diagnostics Foundation and Advanced Digital\nCourse\n2x Certifications* (Change Diagnostics Foundation Course + Advanced Digital\nChange Course)\n\nLearning days on 9am – 2pm AEDT on 27th and 28th. Followed by 4x virtual sessions at 5:30pm – 7pm
URL:https://earth2mars.com.au/event/advanced-digital-accelerator-course-%f0%9f%87%a6%f0%9f%87%ba/
LOCATION:Sydney\, Sydney\, Australia
CATEGORIES:Advanced Digital Accelerator Program
ATTACH;FMTTYPE=image/jpeg:https://earth2mars.com.au/wp-content/uploads/2020/11/Digital-Accelerator.jpg
END:VEVENT
BEGIN:VEVENT
DTSTART;TZID=Australia/Sydney:20210303T080000
DTEND;TZID=Australia/Sydney:20210303T084500
DTSTAMP:20210224T131456
CREATED:20210218T035239Z
LAST-MODIFIED:20210221T013951Z
UID:9203-1614758400-1614761100@earth2mars.com.au
SUMMARY:Co-Creating Change | Leading with human-centric approaches that work
DESCRIPTION:What it’s about:\nWhat if becoming more human is the key to our survival in the future of work\, both in the short and longer term? \nWhat if our ability to collaborate and co-create is the key differentiator for change and project professionals like us? \n  \nOld traditional and theoretic approaches simply do not work anymore. We have witnessed how old paradigms\, models and mindsets of consulting are not enough to lead real change with real results in a hyper-connected universe. Yet\, never fear… there is still hope!  \n  \nWe have also witnessed force-for-good\, new power organisations come out of nowhere and embrace human-centric approaches backed with collaborative technology to do incredible things in businesses and for humanity. It’s time for us in the front-line of change to start exploring new ways of leading and facilitating change. \n  \nThis is what our March Space for Change will be all about. So let’s harness the power of co-creation in change! Templates and methodologies don’t move people.  \nInclusion\, community and creativity do! \n  \nWhat we will cover:\nIn this upcoming panel session we will: \n\nLearn how and why the role of change has shifted from ‘doing’ change to a business to facilitating change with our stakeholders\nHear from industry leaders\, Sandra Yencho (Director\, Pacific Program Management\, USA) and Marienne Mills (Change Manager\, Workwear Group\, AUS) who share real results achieved using human-centred design and collaborative technology \nEngage\, share and contribute to the conversation with your own perspectives on the topic\n\n  \nWhen\nWednesday 3rd March 2021 (Sydney / AEDT) / Tuesday 2nd March 2021 (New York / EST) \n  \n\nStart 8am (Sydney / AEDT) / 4pm (New York / EST)\nFinish 8:45am (Sydney / AEDT) /  4:45pm (New York / EST)\n\n  \nCost\n$10 AUD \nWe’ve set a small fee to support our planet Earth and friends at World Wide Fund for Nature Australia (WWF) so we can continue to build a future where humans can live in harmony with nature. \nAll proceeds will be donated to WWF. \n \nWho is this for?\nEmerging leaders who are involved in developing business strategies and influencing business growth and change any shape or form\, be it project managers\, business/team leaders\, change managers\, learning and development professionals and communication specialists. \n  \nSpace for Change\nA collective of like minded transformation consultants who are passionate about human-centric approaches to change. We catch up monthly and talk about topics that matter. \nWhy? Because everybody deserves to find their place\, now and in the future\, so we can make history. \nAt Earth2Mars\, we believe and invest in our human potential to expand our horizons and continuously learn and grow together. For us\, our mission is to see humanity become an interplanetary species\, but how can we ever hope to coexist on Mars if we still haven’t learned to do this on our home planet first?   \n  \nWe catch up at monthly events and talk about topics that matter to humanity\, so come and join your tribe on Linkedin. \n  \nAbout the presenters\nCristina\, Founder of Cristina Herrera Consulting\, is fiercely committed to navigating through life and business with a hand-on-heart approach. Cristina is an industry thought leader\, speaker\, educator and mentor in Organisational Change Management and Workplace Strategy with a wealth of global cross-cultural experience. \nConnect with Cristina \n  \nAndrew founded Earth2Mars to help people make a difference in the world. With over 17+ years of transformational\, technology and organisational change experience he brings together the best of business\, consulting\, design-thinking and behavioural science to any transformation program (big\, small or somewhere in between) because everyone deserves a place in the future. \nConnect with Andrew \n  \nRefund Policy \nAll proceeds will be donated to charity\, there are no refunds.
URL:https://earth2mars.com.au/event/co-creating-change-leading-with-human-centric-approaches-that-work/
LOCATION:Virtual
CATEGORIES:Space for Change
ATTACH;FMTTYPE=image/png:https://earth2mars.com.au/wp-content/uploads/2021/02/S4C-Event-2-Image-1200x720-2.png
END:VEVENT
BEGIN:VEVENT
DTSTART;VALUE=DATE:20210227
DTEND;VALUE=DATE:20210318
DTSTAMP:20210224T131456
CREATED:20201103T075748Z
LAST-MODIFIED:20210119T091100Z
UID:7324-1614384000-1616025599@earth2mars.com.au
SUMMARY:Change Diagnostic Foundation Course 🇦🇺
DESCRIPTION:This is a 6-week program delivered as a hybrid of both face-to-face and virtually guided. We teach you a change management methodology using human-centred design layered with the tools\, tips and human skills to engage your audience and facilitate any level of change.\n  \nWho is this for?\nProgram Managers\, Project Managers\, Business Analysts\, Professionals transitioning into change\, Independent Consultants and Contractors. As well as any professionals who are problem-solving\, engages people (stakeholders\, team or a board) or is involved in change across systems and technology\, roles and organisational charts\, process and policies\, regulations and culture. \n  \nKey learning outcomes:\n\nChange Diagnostic Approach which incorporates the best of consulting\, behavioural science\nand human-centred design\nFacilitation tips\, tools and skills for a more holistic\, engaging and inclusive change consulting\nCommunity of practice with 3 follow up group coaching sessions to support you as you\ndeliver your change\nA one on one coaching session to help you map your next steps in the change universe\nA toolkit of human-centred design approaches specific for change & transformation work.\nIn-depth knowledge & practical communications skills to help you deliver & facilitate change\nwith confidence\nCertification* of Change Diagnostics Foundation Course\n\nLearning day on 9am – 6pm AEDT. Followed by 4x virtual sessions at 5:30pm – 7pm AEDT
URL:https://earth2mars.com.au/event/change-diagnostic-foundation-course-%f0%9f%87%a6%f0%9f%87%ba-4/
LOCATION:Sydney\, Sydney\, Australia
CATEGORIES:Change Diagnostic Foundation Program
ATTACH;FMTTYPE=image/jpeg:https://earth2mars.com.au/wp-content/uploads/2020/11/Change-Diagnostic.jpg
END:VEVENT
END:VCALENDAR